BEGIN:VCALENDAR
VERSION:2.0
PRODID:-//Foothill Workforce Development Board (FWDB) - ECPv6.15.20//NONSGML v1.0//EN
CALSCALE:GREGORIAN
METHOD:PUBLISH
X-WR-CALNAME:Foothill Workforce Development Board (FWDB)
X-ORIGINAL-URL:https://fwdbworks.org/wp
X-WR-CALDESC:Events for Foothill Workforce Development Board (FWDB)
REFRESH-INTERVAL;VALUE=DURATION:PT1H
X-Robots-Tag:noindex
X-PUBLISHED-TTL:PT1H
BEGIN:VTIMEZONE
TZID:America/Los_Angeles
BEGIN:DAYLIGHT
TZOFFSETFROM:-0800
TZOFFSETTO:-0700
TZNAME:PDT
DTSTART:20250309T100000
END:DAYLIGHT
BEGIN:STANDARD
TZOFFSETFROM:-0700
TZOFFSETTO:-0800
TZNAME:PST
DTSTART:20251102T090000
END:STANDARD
BEGIN:DAYLIGHT
TZOFFSETFROM:-0800
TZOFFSETTO:-0700
TZNAME:PDT
DTSTART:20260308T100000
END:DAYLIGHT
BEGIN:STANDARD
TZOFFSETFROM:-0700
TZOFFSETTO:-0800
TZNAME:PST
DTSTART:20261101T090000
END:STANDARD
BEGIN:DAYLIGHT
TZOFFSETFROM:-0800
TZOFFSETTO:-0700
TZNAME:PDT
DTSTART:20270314T100000
END:DAYLIGHT
BEGIN:STANDARD
TZOFFSETFROM:-0700
TZOFFSETTO:-0800
TZNAME:PST
DTSTART:20271107T090000
END:STANDARD
END:VTIMEZONE
BEGIN:VEVENT
DTSTART;TZID=America/Los_Angeles:20260423T100000
DTEND;TZID=America/Los_Angeles:20260423T110000
DTSTAMP:20260423T072318
CREATED:20260324T181937Z
LAST-MODIFIED:20260324T181937Z
UID:1594-1776938400-1776942000@fwdbworks.org
SUMMARY:FWDB Orientation
DESCRIPTION:To register\, please email fwdb@foothilletc.org
URL:https://fwdbworks.org/wp/event/fwdb-orientation-114/
LOCATION:FETC\, 1207 E. Green St.\, Pasadena
ATTACH;FMTTYPE=image/jpeg:https://fwdbworks.org/wp/wp-content/uploads/2025/11/Copy-of-Dark-Blue-and-Red-Minimalist-We-Are-Hiring-Poster-1-e1763488562326.jpg
ORGANIZER;CN="Foothill Workforce Development Board":MAILTO:fwdb@foothilletc.org
END:VEVENT
END:VCALENDAR