BEGIN:VCALENDAR
VERSION:2.0
PRODID:-//Foothill Workforce Development Board (FWDB) - ECPv6.15.20//NONSGML v1.0//EN
CALSCALE:GREGORIAN
METHOD:PUBLISH
X-WR-CALNAME:Foothill Workforce Development Board (FWDB)
X-ORIGINAL-URL:https://fwdbworks.org/wp
X-WR-CALDESC:Events for Foothill Workforce Development Board (FWDB)
REFRESH-INTERVAL;VALUE=DURATION:PT1H
X-Robots-Tag:noindex
X-PUBLISHED-TTL:PT1H
BEGIN:VTIMEZONE
TZID:America/Los_Angeles
BEGIN:DAYLIGHT
TZOFFSETFROM:-0800
TZOFFSETTO:-0700
TZNAME:PDT
DTSTART:20250309T100000
END:DAYLIGHT
BEGIN:STANDARD
TZOFFSETFROM:-0700
TZOFFSETTO:-0800
TZNAME:PST
DTSTART:20251102T090000
END:STANDARD
BEGIN:DAYLIGHT
TZOFFSETFROM:-0800
TZOFFSETTO:-0700
TZNAME:PDT
DTSTART:20260308T100000
END:DAYLIGHT
BEGIN:STANDARD
TZOFFSETFROM:-0700
TZOFFSETTO:-0800
TZNAME:PST
DTSTART:20261101T090000
END:STANDARD
BEGIN:DAYLIGHT
TZOFFSETFROM:-0800
TZOFFSETTO:-0700
TZNAME:PDT
DTSTART:20270314T100000
END:DAYLIGHT
BEGIN:STANDARD
TZOFFSETFROM:-0700
TZOFFSETTO:-0800
TZNAME:PST
DTSTART:20271107T090000
END:STANDARD
END:VTIMEZONE
BEGIN:VEVENT
DTSTART;TZID=America/Los_Angeles:20260423T100000
DTEND;TZID=America/Los_Angeles:20260423T110000
DTSTAMP:20260423T050604
CREATED:20260324T181937Z
LAST-MODIFIED:20260324T181937Z
UID:1594-1776938400-1776942000@fwdbworks.org
SUMMARY:FWDB Orientation
DESCRIPTION:To register\, please email fwdb@foothilletc.org
URL:https://fwdbworks.org/wp/event/fwdb-orientation-114/
LOCATION:FETC\, 1207 E. Green St.\, Pasadena
ATTACH;FMTTYPE=image/jpeg:https://fwdbworks.org/wp/wp-content/uploads/2025/11/Copy-of-Dark-Blue-and-Red-Minimalist-We-Are-Hiring-Poster-1-e1763488562326.jpg
ORGANIZER;CN="Foothill Workforce Development Board":MAILTO:fwdb@foothilletc.org
END:VEVENT
BEGIN:VEVENT
DTSTART;TZID=America/Los_Angeles:20260424T100000
DTEND;TZID=America/Los_Angeles:20260424T120000
DTSTAMP:20260423T050604
CREATED:20260324T181123Z
LAST-MODIFIED:20260324T181123Z
UID:1573-1777024800-1777032000@fwdbworks.org
SUMMARY:Tech Savvy Job Search Strategies Workshop
DESCRIPTION:Seating is limited to 15 spots.  Please email fwdb@foothilletc.org to reserve your spot.
URL:https://fwdbworks.org/wp/event/tech-savvy-job-search-strategies-workshop-6/
LOCATION:FETC\, 1207 E. Green St.\, Pasadena
ATTACH;FMTTYPE=image/jpeg:https://fwdbworks.org/wp/wp-content/uploads/2026/02/Job-Search-and-Interview-Skills-Workshop-March-13th-and-March-27th-scaled-e1771873743952.jpg
ORGANIZER;CN="Foothill Workforce Development Board":MAILTO:fwdb@foothilletc.org
END:VEVENT
BEGIN:VEVENT
DTSTART;TZID=America/Los_Angeles:20260424T130000
DTEND;TZID=America/Los_Angeles:20260424T150000
DTSTAMP:20260423T050604
CREATED:20260324T181309Z
LAST-MODIFIED:20260324T181309Z
UID:1578-1777035600-1777042800@fwdbworks.org
SUMMARY:Advanced Interview Skills Workshop
DESCRIPTION:Seating is limited to 15 spots.  Please email fwdb@foothilletc.org to reserve your spot.
URL:https://fwdbworks.org/wp/event/advanced-interview-skills-workshop-6/
LOCATION:FETC\, 1207 E. Green St.\, Pasadena
ATTACH;FMTTYPE=image/jpeg:https://fwdbworks.org/wp/wp-content/uploads/2026/02/Job-Search-and-Interview-Skills-Workshop-March-13th-and-March-27th-scaled-e1771873743952.jpg
ORGANIZER;CN="Foothill Workforce Development Board":MAILTO:fwdb@foothilletc.org
END:VEVENT
BEGIN:VEVENT
DTSTART;TZID=America/Los_Angeles:20260427T100000
DTEND;TZID=America/Los_Angeles:20260427T110000
DTSTAMP:20260423T050604
CREATED:20260324T181834Z
LAST-MODIFIED:20260324T181834Z
UID:1590-1777284000-1777287600@fwdbworks.org
SUMMARY:FWDB Orientation
DESCRIPTION:To register\, please email fwdb@foothilletc.org
URL:https://fwdbworks.org/wp/event/fwdb-orientation-112/
LOCATION:FETC\, 1207 E. Green St.\, Pasadena
ATTACH;FMTTYPE=image/jpeg:https://fwdbworks.org/wp/wp-content/uploads/2025/11/Copy-of-Dark-Blue-and-Red-Minimalist-We-Are-Hiring-Poster-1-e1763488562326.jpg
ORGANIZER;CN="Foothill Workforce Development Board":MAILTO:fwdb@foothilletc.org
END:VEVENT
BEGIN:VEVENT
DTSTART;TZID=America/Los_Angeles:20260430T100000
DTEND;TZID=America/Los_Angeles:20260430T110000
DTSTAMP:20260423T050604
CREATED:20260324T181907Z
LAST-MODIFIED:20260324T181907Z
UID:1592-1777543200-1777546800@fwdbworks.org
SUMMARY:FWDB Orientation
DESCRIPTION:To register\, please email fwdb@foothilletc.org
URL:https://fwdbworks.org/wp/event/fwdb-orientation-113/
LOCATION:FETC\, 1207 E. Green St.\, Pasadena
ATTACH;FMTTYPE=image/jpeg:https://fwdbworks.org/wp/wp-content/uploads/2025/11/Copy-of-Dark-Blue-and-Red-Minimalist-We-Are-Hiring-Poster-1-e1763488562326.jpg
ORGANIZER;CN="Foothill Workforce Development Board":MAILTO:fwdb@foothilletc.org
END:VEVENT
END:VCALENDAR