BEGIN:VCALENDAR
VERSION:2.0
PRODID:-//Foothill Workforce Development Board (FWDB) - ECPv6.15.20//NONSGML v1.0//EN
CALSCALE:GREGORIAN
METHOD:PUBLISH
X-ORIGINAL-URL:https://fwdbworks.org/wp
X-WR-CALDESC:Events for Foothill Workforce Development Board (FWDB)
REFRESH-INTERVAL;VALUE=DURATION:PT1H
X-Robots-Tag:noindex
X-PUBLISHED-TTL:PT1H
BEGIN:VTIMEZONE
TZID:America/Los_Angeles
BEGIN:DAYLIGHT
TZOFFSETFROM:-0800
TZOFFSETTO:-0700
TZNAME:PDT
DTSTART:20230312T100000
END:DAYLIGHT
BEGIN:STANDARD
TZOFFSETFROM:-0700
TZOFFSETTO:-0800
TZNAME:PST
DTSTART:20231105T090000
END:STANDARD
BEGIN:DAYLIGHT
TZOFFSETFROM:-0800
TZOFFSETTO:-0700
TZNAME:PDT
DTSTART:20240310T100000
END:DAYLIGHT
BEGIN:STANDARD
TZOFFSETFROM:-0700
TZOFFSETTO:-0800
TZNAME:PST
DTSTART:20241103T090000
END:STANDARD
BEGIN:DAYLIGHT
TZOFFSETFROM:-0800
TZOFFSETTO:-0700
TZNAME:PDT
DTSTART:20250309T100000
END:DAYLIGHT
BEGIN:STANDARD
TZOFFSETFROM:-0700
TZOFFSETTO:-0800
TZNAME:PST
DTSTART:20251102T090000
END:STANDARD
END:VTIMEZONE
BEGIN:VEVENT
DTSTART;TZID=America/Los_Angeles:20241003T100000
DTEND;TZID=America/Los_Angeles:20241003T110000
DTSTAMP:20260424T033216
CREATED:20241002T175655Z
LAST-MODIFIED:20241002T181528Z
UID:844-1727949600-1727953200@fwdbworks.org
SUMMARY:FWDB Orientation
DESCRIPTION:
URL:https://fwdbworks.org/wp/event/fwdb-orientation/
LOCATION:FETC\, 1207 E. Green St.\, Pasadena
ATTACH;FMTTYPE=image/jpeg:https://fwdbworks.org/wp/wp-content/uploads/2024/10/Orientation-Flyer.060524pdf-7-e1727911073419.jpg
ORGANIZER;CN="Foothill Workforce Development Board":MAILTO:fwdb@foothilletc.org
END:VEVENT
BEGIN:VEVENT
DTSTART;TZID=America/Los_Angeles:20241007T100000
DTEND;TZID=America/Los_Angeles:20241007T110000
DTSTAMP:20260424T033216
CREATED:20241002T231902Z
LAST-MODIFIED:20241002T231902Z
UID:856-1728295200-1728298800@fwdbworks.org
SUMMARY:FWDB Orientation
DESCRIPTION:
URL:https://fwdbworks.org/wp/event/fwdb-orientation-2/
LOCATION:FETC\, 1207 E. Green St.\, Pasadena
ATTACH;FMTTYPE=image/jpeg:https://fwdbworks.org/wp/wp-content/uploads/2024/10/Orientation-Flyer.060524pdf-7-e1727911073419.jpg
ORGANIZER;CN="Foothill Workforce Development Board":MAILTO:fwdb@foothilletc.org
END:VEVENT
BEGIN:VEVENT
DTSTART;TZID=America/Los_Angeles:20241010T100000
DTEND;TZID=America/Los_Angeles:20241010T110000
DTSTAMP:20260424T033216
CREATED:20241002T232031Z
LAST-MODIFIED:20241002T232031Z
UID:858-1728554400-1728558000@fwdbworks.org
SUMMARY:FWDB Orientation
DESCRIPTION:
URL:https://fwdbworks.org/wp/event/fwdb-orientation-3/
LOCATION:FETC\, 1207 E. Green St.\, Pasadena
ATTACH;FMTTYPE=image/jpeg:https://fwdbworks.org/wp/wp-content/uploads/2024/10/Orientation-Flyer.060524pdf-7-e1727911073419.jpg
ORGANIZER;CN="Foothill Workforce Development Board":MAILTO:fwdb@foothilletc.org
END:VEVENT
BEGIN:VEVENT
DTSTART;TZID=America/Los_Angeles:20241014T100000
DTEND;TZID=America/Los_Angeles:20241014T110000
DTSTAMP:20260424T033216
CREATED:20241002T232341Z
LAST-MODIFIED:20241002T232341Z
UID:864-1728900000-1728903600@fwdbworks.org
SUMMARY:FWDB Orientation
DESCRIPTION:
URL:https://fwdbworks.org/wp/event/fwdb-orientation-6/
LOCATION:FETC\, 1207 E. Green St.\, Pasadena
ATTACH;FMTTYPE=image/jpeg:https://fwdbworks.org/wp/wp-content/uploads/2024/10/Orientation-Flyer.060524pdf-7-e1727911073419.jpg
ORGANIZER;CN="Foothill Workforce Development Board":MAILTO:fwdb@foothilletc.org
END:VEVENT
BEGIN:VEVENT
DTSTART;TZID=America/Los_Angeles:20241017T100000
DTEND;TZID=America/Los_Angeles:20241017T110000
DTSTAMP:20260424T033216
CREATED:20241002T232420Z
LAST-MODIFIED:20241002T232420Z
UID:866-1729159200-1729162800@fwdbworks.org
SUMMARY:FWDB Orientation
DESCRIPTION:
URL:https://fwdbworks.org/wp/event/fwdb-orientation-7/
LOCATION:FETC\, 1207 E. Green St.\, Pasadena
ATTACH;FMTTYPE=image/jpeg:https://fwdbworks.org/wp/wp-content/uploads/2024/10/Orientation-Flyer.060524pdf-7-e1727911073419.jpg
ORGANIZER;CN="Foothill Workforce Development Board":MAILTO:fwdb@foothilletc.org
END:VEVENT
BEGIN:VEVENT
DTSTART;TZID=America/Los_Angeles:20241021T100000
DTEND;TZID=America/Los_Angeles:20241021T110000
DTSTAMP:20260424T033216
CREATED:20241002T232137Z
LAST-MODIFIED:20241002T232137Z
UID:860-1729504800-1729508400@fwdbworks.org
SUMMARY:FWDB Orientation
DESCRIPTION:
URL:https://fwdbworks.org/wp/event/fwdb-orientation-4/
LOCATION:FETC\, 1207 E. Green St.\, Pasadena
ATTACH;FMTTYPE=image/jpeg:https://fwdbworks.org/wp/wp-content/uploads/2024/10/Orientation-Flyer.060524pdf-7-e1727911073419.jpg
ORGANIZER;CN="Foothill Workforce Development Board":MAILTO:fwdb@foothilletc.org
END:VEVENT
BEGIN:VEVENT
DTSTART;TZID=America/Los_Angeles:20241023T100000
DTEND;TZID=America/Los_Angeles:20241023T130000
DTSTAMP:20260424T033216
CREATED:20241003T220956Z
LAST-MODIFIED:20241003T221846Z
UID:871-1729677600-1729688400@fwdbworks.org
SUMMARY:City of Duarte Job Fair
DESCRIPTION:
URL:https://fwdbworks.org/wp/event/city-of-duarte-job-fair/
LOCATION:Duarte Community Center\, 1600 Huntington Dr\, Duarte\, CA\, 91010\, United States
ATTACH;FMTTYPE=image/jpeg:https://fwdbworks.org/wp/wp-content/uploads/2024/10/Duarte-Job-Fair-Flyer-October-23-1.jpg
ORGANIZER;CN="Duarte Chamber of Commerce":MAILTO:info@duartechamber.com
END:VEVENT
BEGIN:VEVENT
DTSTART;TZID=America/Los_Angeles:20241024T100000
DTEND;TZID=America/Los_Angeles:20241024T110000
DTSTAMP:20260424T033216
CREATED:20241002T232459Z
LAST-MODIFIED:20241002T232459Z
UID:868-1729764000-1729767600@fwdbworks.org
SUMMARY:FWDB Orientation
DESCRIPTION:
URL:https://fwdbworks.org/wp/event/fwdb-orientation-8/
LOCATION:FETC\, 1207 E. Green St.\, Pasadena
ATTACH;FMTTYPE=image/jpeg:https://fwdbworks.org/wp/wp-content/uploads/2024/10/Orientation-Flyer.060524pdf-7-e1727911073419.jpg
ORGANIZER;CN="Foothill Workforce Development Board":MAILTO:fwdb@foothilletc.org
END:VEVENT
BEGIN:VEVENT
DTSTART;TZID=America/Los_Angeles:20241028T100000
DTEND;TZID=America/Los_Angeles:20241028T110000
DTSTAMP:20260424T033216
CREATED:20241002T232244Z
LAST-MODIFIED:20241002T232244Z
UID:862-1730109600-1730113200@fwdbworks.org
SUMMARY:FWDB Orientation
DESCRIPTION:
URL:https://fwdbworks.org/wp/event/fwdb-orientation-5/
LOCATION:FETC\, 1207 E. Green St.\, Pasadena
ATTACH;FMTTYPE=image/jpeg:https://fwdbworks.org/wp/wp-content/uploads/2024/10/Orientation-Flyer.060524pdf-7-e1727911073419.jpg
ORGANIZER;CN="Foothill Workforce Development Board":MAILTO:fwdb@foothilletc.org
END:VEVENT
BEGIN:VEVENT
DTSTART;TZID=America/Los_Angeles:20241031T100000
DTEND;TZID=America/Los_Angeles:20241031T110000
DTSTAMP:20260424T033216
CREATED:20241003T222052Z
LAST-MODIFIED:20241003T222052Z
UID:878-1730368800-1730372400@fwdbworks.org
SUMMARY:FWDB Orientation
DESCRIPTION:
URL:https://fwdbworks.org/wp/event/fwdb-orientation-9/
LOCATION:FETC\, 1207 E. Green St.\, Pasadena
ATTACH;FMTTYPE=image/jpeg:https://fwdbworks.org/wp/wp-content/uploads/2024/10/Orientation-Flyer.060524pdf-7-e1727911073419.jpg
ORGANIZER;CN="Foothill Workforce Development Board":MAILTO:fwdb@foothilletc.org
END:VEVENT
END:VCALENDAR