BEGIN:VCALENDAR
VERSION:2.0
PRODID:-//Foothill Workforce Development Board (FWDB) - ECPv6.15.20//NONSGML v1.0//EN
CALSCALE:GREGORIAN
METHOD:PUBLISH
X-WR-CALNAME:Foothill Workforce Development Board (FWDB)
X-ORIGINAL-URL:https://fwdbworks.org/wp
X-WR-CALDESC:Events for Foothill Workforce Development Board (FWDB)
REFRESH-INTERVAL;VALUE=DURATION:PT1H
X-Robots-Tag:noindex
X-PUBLISHED-TTL:PT1H
BEGIN:VTIMEZONE
TZID:America/Los_Angeles
BEGIN:DAYLIGHT
TZOFFSETFROM:-0800
TZOFFSETTO:-0700
TZNAME:PDT
DTSTART:20240310T100000
END:DAYLIGHT
BEGIN:STANDARD
TZOFFSETFROM:-0700
TZOFFSETTO:-0800
TZNAME:PST
DTSTART:20241103T090000
END:STANDARD
BEGIN:DAYLIGHT
TZOFFSETFROM:-0800
TZOFFSETTO:-0700
TZNAME:PDT
DTSTART:20250309T100000
END:DAYLIGHT
BEGIN:STANDARD
TZOFFSETFROM:-0700
TZOFFSETTO:-0800
TZNAME:PST
DTSTART:20251102T090000
END:STANDARD
BEGIN:DAYLIGHT
TZOFFSETFROM:-0800
TZOFFSETTO:-0700
TZNAME:PDT
DTSTART:20260308T100000
END:DAYLIGHT
BEGIN:STANDARD
TZOFFSETFROM:-0700
TZOFFSETTO:-0800
TZNAME:PST
DTSTART:20261101T090000
END:STANDARD
END:VTIMEZONE
BEGIN:VEVENT
DTSTART;TZID=America/Los_Angeles:20250218T090000
DTEND;TZID=America/Los_Angeles:20250218T103000
DTSTAMP:20260423T224128
CREATED:20250123T211726Z
LAST-MODIFIED:20250219T161136Z
UID:953-1739869200-1739874600@fwdbworks.org
SUMMARY:FWDB Full Board Meeting
DESCRIPTION:FWDB Full Board Meeting 2.18.24 Agenda Packet \nPlease save the date for the next Full-Foothill Workforce Development Board Meeting.\nTuesday February 18th\, 2025 – 9:00 AM – 10:30 AM. \nThis meeting will be held at La Casita Del Arroyo – 177 S Arroyo Blvd\, Pasadena\, CA 91105.
URL:https://fwdbworks.org/wp/event/fwdb-full-board-meeting/
LOCATION:La Casita Del Arroyo\, 177 S Arroyo Blvd\, Pasadena\, CA\, 91105\, United States
ATTACH;FMTTYPE=application/pdf:https://fwdbworks.org/wp/wp-content/uploads/2025/01/1.-Agenda.pdf
ORGANIZER;CN="Foothill Workforce Development Board":MAILTO:fwdb@foothilletc.org
END:VEVENT
BEGIN:VEVENT
DTSTART;TZID=America/Los_Angeles:20250220T090000
DTEND;TZID=America/Los_Angeles:20250220T103000
DTSTAMP:20260423T224128
CREATED:20250211T160213Z
LAST-MODIFIED:20250215T000205Z
UID:958-1740042000-1740047400@fwdbworks.org
SUMMARY:FETC Policy Board Meeting
DESCRIPTION:Please save the date for the next Full-Foothill Workforce Development Board Meeting.\nThursday February 20th\, 2025 – 9:00 AM – 10:30 AM. \nThis meeting will be held at Foothill Workforce Development Office – 1207 E Green St\, Pasadena\, CA 91106.  \nMeeting agenda and reports will be available at a future date.
URL:https://fwdbworks.org/wp/event/fetc-policy-board-meeting/
LOCATION:FETC\, 1207 E. Green St.\, Pasadena
ATTACH;FMTTYPE=application/pdf:https://fwdbworks.org/wp/wp-content/uploads/2025/02/FETC-Agenda-2.20.25-1.pdf
END:VEVENT
BEGIN:VEVENT
DTSTART;TZID=America/Los_Angeles:20250220T094500
DTEND;TZID=America/Los_Angeles:20250220T103000
DTSTAMP:20260423T224128
CREATED:20250219T155756Z
LAST-MODIFIED:20250219T160353Z
UID:981-1740044700-1740047400@fwdbworks.org
SUMMARY:FETC Policy Board Special Meeting
DESCRIPTION:This meeting will be held at Foothill Workforce Development Office – 1207 E Green St\, Pasadena\, CA 91106.  \nMeeting agenda and reports will be available at a future date.
URL:https://fwdbworks.org/wp/event/fetc-policy-board-special-meeting/
LOCATION:FETC\, 1207 E. Green St.\, Pasadena
ATTACH;FMTTYPE=application/pdf:https://fwdbworks.org/wp/wp-content/uploads/2025/02/FETC-Special-Meeting-Agenda-2.20.25-1.pdf
ORGANIZER;CN="Foothill Workforce Development Board":MAILTO:fwdb@foothilletc.org
END:VEVENT
BEGIN:VEVENT
DTSTART;TZID=America/Los_Angeles:20250227T100000
DTEND;TZID=America/Los_Angeles:20250227T110000
DTSTAMP:20260423T224128
CREATED:20250225T175359Z
LAST-MODIFIED:20250225T175409Z
UID:1000-1740650400-1740654000@fwdbworks.org
SUMMARY:FWDB Orientation
DESCRIPTION:
URL:https://fwdbworks.org/wp/event/fwdb-orientation-24/
LOCATION:FETC\, 1207 E. Green St.\, Pasadena
ATTACH;FMTTYPE=image/jpeg:https://fwdbworks.org/wp/wp-content/uploads/2024/10/Orientation-Flyer.060524pdf-7-e1727911073419.jpg
ORGANIZER;CN="Foothill Workforce Development Board":MAILTO:fwdb@foothilletc.org
END:VEVENT
BEGIN:VEVENT
DTSTART;TZID=America/Los_Angeles:20250228T110000
DTEND;TZID=America/Los_Angeles:20250228T120000
DTSTAMP:20260423T224128
CREATED:20250225T175225Z
LAST-MODIFIED:20250225T175225Z
UID:996-1740740400-1740744000@fwdbworks.org
SUMMARY:Foothill Workforce Development Board Executive Committee Meeting
DESCRIPTION:Please save the date for the next Foothill Workforce Development Board Executive Committee Meeting.\nFriday February 28th\, 2025 – 11:00 AM – 12:00 PM. \nThis meeting will be held at the FWDB Office – 1207 E Green St\, Pasadena\, CA 91106
URL:https://fwdbworks.org/wp/event/foothill-workforce-development-board-executive-committee-meeting/
LOCATION:FETC\, 1207 E. Green St.\, Pasadena
ATTACH;FMTTYPE=application/pdf:https://fwdbworks.org/wp/wp-content/uploads/2025/02/FWDB-Exec-Agenda-2.28.25.pdf
ORGANIZER;CN="Foothill Workforce Development Board":MAILTO:fwdb@foothilletc.org
END:VEVENT
END:VCALENDAR