BEGIN:VCALENDAR
VERSION:2.0
PRODID:-//Foothill Workforce Development Board (FWDB) - ECPv6.15.20//NONSGML v1.0//EN
CALSCALE:GREGORIAN
METHOD:PUBLISH
X-WR-CALNAME:Foothill Workforce Development Board (FWDB)
X-ORIGINAL-URL:https://fwdbworks.org/wp
X-WR-CALDESC:Events for Foothill Workforce Development Board (FWDB)
REFRESH-INTERVAL;VALUE=DURATION:PT1H
X-Robots-Tag:noindex
X-PUBLISHED-TTL:PT1H
BEGIN:VTIMEZONE
TZID:America/Los_Angeles
BEGIN:DAYLIGHT
TZOFFSETFROM:-0800
TZOFFSETTO:-0700
TZNAME:PDT
DTSTART:20240310T100000
END:DAYLIGHT
BEGIN:STANDARD
TZOFFSETFROM:-0700
TZOFFSETTO:-0800
TZNAME:PST
DTSTART:20241103T090000
END:STANDARD
BEGIN:DAYLIGHT
TZOFFSETFROM:-0800
TZOFFSETTO:-0700
TZNAME:PDT
DTSTART:20250309T100000
END:DAYLIGHT
BEGIN:STANDARD
TZOFFSETFROM:-0700
TZOFFSETTO:-0800
TZNAME:PST
DTSTART:20251102T090000
END:STANDARD
BEGIN:DAYLIGHT
TZOFFSETFROM:-0800
TZOFFSETTO:-0700
TZNAME:PDT
DTSTART:20260308T100000
END:DAYLIGHT
BEGIN:STANDARD
TZOFFSETFROM:-0700
TZOFFSETTO:-0800
TZNAME:PST
DTSTART:20261101T090000
END:STANDARD
END:VTIMEZONE
BEGIN:VEVENT
DTSTART;TZID=America/Los_Angeles:20250303T100000
DTEND;TZID=America/Los_Angeles:20250303T110000
DTSTAMP:20260423T213202
CREATED:20250225T175530Z
LAST-MODIFIED:20250225T175530Z
UID:1002-1740996000-1740999600@fwdbworks.org
SUMMARY:FWDB Orientation
DESCRIPTION:
URL:https://fwdbworks.org/wp/event/fwdb-orientation-25/
LOCATION:FETC\, 1207 E. Green St.\, Pasadena
ATTACH;FMTTYPE=image/jpeg:https://fwdbworks.org/wp/wp-content/uploads/2024/10/Orientation-Flyer.060524pdf-7-e1727911073419.jpg
ORGANIZER;CN="Foothill Workforce Development Board":MAILTO:fwdb@foothilletc.org
END:VEVENT
BEGIN:VEVENT
DTSTART;TZID=America/Los_Angeles:20250310T100000
DTEND;TZID=America/Los_Angeles:20250310T110000
DTSTAMP:20260423T213202
CREATED:20250225T175614Z
LAST-MODIFIED:20250225T175614Z
UID:1004-1741600800-1741604400@fwdbworks.org
SUMMARY:FWDB Orientation
DESCRIPTION:
URL:https://fwdbworks.org/wp/event/fwdb-orientation-26/
LOCATION:FETC\, 1207 E. Green St.\, Pasadena
ATTACH;FMTTYPE=image/jpeg:https://fwdbworks.org/wp/wp-content/uploads/2024/10/Orientation-Flyer.060524pdf-7-e1727911073419.jpg
ORGANIZER;CN="Foothill Workforce Development Board":MAILTO:fwdb@foothilletc.org
END:VEVENT
BEGIN:VEVENT
DTSTART;TZID=America/Los_Angeles:20250317T100000
DTEND;TZID=America/Los_Angeles:20250317T110000
DTSTAMP:20260423T213202
CREATED:20250225T175651Z
LAST-MODIFIED:20250225T175654Z
UID:1006-1742205600-1742209200@fwdbworks.org
SUMMARY:FWDB Orientation
DESCRIPTION:
URL:https://fwdbworks.org/wp/event/fwdb-orientation-27/
LOCATION:FETC\, 1207 E. Green St.\, Pasadena
ATTACH;FMTTYPE=image/jpeg:https://fwdbworks.org/wp/wp-content/uploads/2024/10/Orientation-Flyer.060524pdf-7-e1727911073419.jpg
ORGANIZER;CN="Foothill Workforce Development Board":MAILTO:fwdb@foothilletc.org
END:VEVENT
BEGIN:VEVENT
DTSTART;TZID=America/Los_Angeles:20250321T100000
DTEND;TZID=America/Los_Angeles:20250321T130000
DTSTAMP:20260423T213202
CREATED:20250219T225737Z
LAST-MODIFIED:20250225T180027Z
UID:989-1742551200-1742562000@fwdbworks.org
SUMMARY:South Pasadena Job Fair
DESCRIPTION:
URL:https://fwdbworks.org/wp/event/south-pasadena-job-fair/
LOCATION:War Memorial Building\, 435 Fair Oaks Ave\, South Pasadena\, CA\, 91030\, United States
ATTACH;FMTTYPE=image/jpeg:https://fwdbworks.org/wp/wp-content/uploads/2025/02/South-Pasadena-Job-Fair.-flyer-1-scaled-e1740506406893.jpg
ORGANIZER;CN="Foothill Workforce Development Board":MAILTO:fwdb@foothilletc.org
END:VEVENT
BEGIN:VEVENT
DTSTART;TZID=America/Los_Angeles:20250324T100000
DTEND;TZID=America/Los_Angeles:20250324T110000
DTSTAMP:20260423T213202
CREATED:20250225T175729Z
LAST-MODIFIED:20250225T175729Z
UID:1008-1742810400-1742814000@fwdbworks.org
SUMMARY:FWDB Orientation
DESCRIPTION:
URL:https://fwdbworks.org/wp/event/fwdb-orientation-28/
LOCATION:FETC\, 1207 E. Green St.\, Pasadena
ATTACH;FMTTYPE=image/jpeg:https://fwdbworks.org/wp/wp-content/uploads/2024/10/Orientation-Flyer.060524pdf-7-e1727911073419.jpg
ORGANIZER;CN="Foothill Workforce Development Board":MAILTO:fwdb@foothilletc.org
END:VEVENT
BEGIN:VEVENT
DTSTART;TZID=America/Los_Angeles:20250331T100000
DTEND;TZID=America/Los_Angeles:20250331T110000
DTSTAMP:20260423T213202
CREATED:20250225T175803Z
LAST-MODIFIED:20250225T175803Z
UID:1010-1743415200-1743418800@fwdbworks.org
SUMMARY:FWDB Orientation
DESCRIPTION:
URL:https://fwdbworks.org/wp/event/fwdb-orientation-29/
LOCATION:FETC\, 1207 E. Green St.\, Pasadena
ATTACH;FMTTYPE=image/jpeg:https://fwdbworks.org/wp/wp-content/uploads/2024/10/Orientation-Flyer.060524pdf-7-e1727911073419.jpg
ORGANIZER;CN="Foothill Workforce Development Board":MAILTO:fwdb@foothilletc.org
END:VEVENT
END:VCALENDAR