BEGIN:VCALENDAR
VERSION:2.0
PRODID:-//Foothill Workforce Development Board (FWDB) - ECPv6.15.20//NONSGML v1.0//EN
CALSCALE:GREGORIAN
METHOD:PUBLISH
X-ORIGINAL-URL:https://fwdbworks.org/wp
X-WR-CALDESC:Events for Foothill Workforce Development Board (FWDB)
REFRESH-INTERVAL;VALUE=DURATION:PT1H
X-Robots-Tag:noindex
X-PUBLISHED-TTL:PT1H
BEGIN:VTIMEZONE
TZID:America/Los_Angeles
BEGIN:DAYLIGHT
TZOFFSETFROM:-0800
TZOFFSETTO:-0700
TZNAME:PDT
DTSTART:20240310T100000
END:DAYLIGHT
BEGIN:STANDARD
TZOFFSETFROM:-0700
TZOFFSETTO:-0800
TZNAME:PST
DTSTART:20241103T090000
END:STANDARD
BEGIN:DAYLIGHT
TZOFFSETFROM:-0800
TZOFFSETTO:-0700
TZNAME:PDT
DTSTART:20250309T100000
END:DAYLIGHT
BEGIN:STANDARD
TZOFFSETFROM:-0700
TZOFFSETTO:-0800
TZNAME:PST
DTSTART:20251102T090000
END:STANDARD
BEGIN:DAYLIGHT
TZOFFSETFROM:-0800
TZOFFSETTO:-0700
TZNAME:PDT
DTSTART:20260308T100000
END:DAYLIGHT
BEGIN:STANDARD
TZOFFSETFROM:-0700
TZOFFSETTO:-0800
TZNAME:PST
DTSTART:20261101T090000
END:STANDARD
END:VTIMEZONE
BEGIN:VEVENT
DTSTART;TZID=America/Los_Angeles:20250407T100000
DTEND;TZID=America/Los_Angeles:20250407T110000
DTSTAMP:20260423T202830
CREATED:20250408T180143Z
LAST-MODIFIED:20250408T180143Z
UID:1045-1744020000-1744023600@fwdbworks.org
SUMMARY:FWDB Orientation
DESCRIPTION:
URL:https://fwdbworks.org/wp/event/fwdb-orientation-37/
LOCATION:FETC\, 1207 E. Green St.\, Pasadena
ATTACH;FMTTYPE=image/jpeg:https://fwdbworks.org/wp/wp-content/uploads/2024/10/Orientation-Flyer.060524pdf-7-e1727911073419.jpg
ORGANIZER;CN="Foothill Workforce Development Board":MAILTO:fwdb@foothilletc.org
END:VEVENT
BEGIN:VEVENT
DTSTART;TZID=America/Los_Angeles:20250414T100000
DTEND;TZID=America/Los_Angeles:20250414T110000
DTSTAMP:20260423T202830
CREATED:20250408T175557Z
LAST-MODIFIED:20250408T175803Z
UID:1029-1744624800-1744628400@fwdbworks.org
SUMMARY:FWDB Orientation
DESCRIPTION:
URL:https://fwdbworks.org/wp/event/fwdb-orientation-30/
LOCATION:FETC\, 1207 E. Green St.\, Pasadena
ATTACH;FMTTYPE=image/jpeg:https://fwdbworks.org/wp/wp-content/uploads/2024/10/Orientation-Flyer.060524pdf-7-e1727911073419.jpg
ORGANIZER;CN="Foothill Workforce Development Board":MAILTO:fwdb@foothilletc.org
END:VEVENT
BEGIN:VEVENT
DTSTART;TZID=America/Los_Angeles:20250421T100000
DTEND;TZID=America/Los_Angeles:20250421T110000
DTSTAMP:20260423T202830
CREATED:20250408T175656Z
LAST-MODIFIED:20250408T175753Z
UID:1031-1745229600-1745233200@fwdbworks.org
SUMMARY:FWDB Orientation
DESCRIPTION:
URL:https://fwdbworks.org/wp/event/fwdb-orientation-31/
LOCATION:FETC\, 1207 E. Green St.\, Pasadena
ATTACH;FMTTYPE=image/jpeg:https://fwdbworks.org/wp/wp-content/uploads/2024/10/Orientation-Flyer.060524pdf-7-e1727911073419.jpg
ORGANIZER;CN="Foothill Workforce Development Board":MAILTO:fwdb@foothilletc.org
END:VEVENT
BEGIN:VEVENT
DTSTART;TZID=America/Los_Angeles:20250421T123000
DTEND;TZID=America/Los_Angeles:20250421T133000
DTSTAMP:20260423T202830
CREATED:20250416T235153Z
LAST-MODIFIED:20250421T173836Z
UID:1084-1745238600-1745242200@fwdbworks.org
SUMMARY:FWDB Youth Committee
DESCRIPTION:This meeting will be held at Foothill Workforce Development Office – 1207 E Green St\, Pasadena\, CA 91106. \nAgenda Packet
URL:https://fwdbworks.org/wp/event/fwdb-youth-committee/
LOCATION:FETC\, 1207 E. Green St.\, Pasadena
ATTACH;FMTTYPE=application/pdf:https://fwdbworks.org/wp/wp-content/uploads/2025/04/FWDB-Youth-Committee-Agenda-Packet-4.21.25.pdf
ORGANIZER;CN="Foothill Workforce Development Board":MAILTO:fwdb@foothilletc.org
END:VEVENT
BEGIN:VEVENT
DTSTART;TZID=America/Los_Angeles:20250428T100000
DTEND;TZID=America/Los_Angeles:20250428T110000
DTSTAMP:20260423T202830
CREATED:20250408T175726Z
LAST-MODIFIED:20250408T175824Z
UID:1033-1745834400-1745838000@fwdbworks.org
SUMMARY:FWDB Orientation
DESCRIPTION:
URL:https://fwdbworks.org/wp/event/fwdb-orientation-32/
LOCATION:FETC\, 1207 E. Green St.\, Pasadena
ATTACH;FMTTYPE=image/jpeg:https://fwdbworks.org/wp/wp-content/uploads/2024/10/Orientation-Flyer.060524pdf-7-e1727911073419.jpg
ORGANIZER;CN="Foothill Workforce Development Board":MAILTO:fwdb@foothilletc.org
END:VEVENT
END:VCALENDAR