BEGIN:VCALENDAR
VERSION:2.0
PRODID:-//Foothill Workforce Development Board (FWDB) - ECPv6.15.20//NONSGML v1.0//EN
CALSCALE:GREGORIAN
METHOD:PUBLISH
X-WR-CALNAME:Foothill Workforce Development Board (FWDB)
X-ORIGINAL-URL:https://fwdbworks.org/wp
X-WR-CALDESC:Events for Foothill Workforce Development Board (FWDB)
REFRESH-INTERVAL;VALUE=DURATION:PT1H
X-Robots-Tag:noindex
X-PUBLISHED-TTL:PT1H
BEGIN:VTIMEZONE
TZID:America/Los_Angeles
BEGIN:DAYLIGHT
TZOFFSETFROM:-0800
TZOFFSETTO:-0700
TZNAME:PDT
DTSTART:20240310T100000
END:DAYLIGHT
BEGIN:STANDARD
TZOFFSETFROM:-0700
TZOFFSETTO:-0800
TZNAME:PST
DTSTART:20241103T090000
END:STANDARD
BEGIN:DAYLIGHT
TZOFFSETFROM:-0800
TZOFFSETTO:-0700
TZNAME:PDT
DTSTART:20250309T100000
END:DAYLIGHT
BEGIN:STANDARD
TZOFFSETFROM:-0700
TZOFFSETTO:-0800
TZNAME:PST
DTSTART:20251102T090000
END:STANDARD
BEGIN:DAYLIGHT
TZOFFSETFROM:-0800
TZOFFSETTO:-0700
TZNAME:PDT
DTSTART:20260308T100000
END:DAYLIGHT
BEGIN:STANDARD
TZOFFSETFROM:-0700
TZOFFSETTO:-0800
TZNAME:PST
DTSTART:20261101T090000
END:STANDARD
END:VTIMEZONE
BEGIN:VEVENT
DTSTART;TZID=America/Los_Angeles:20250505T100000
DTEND;TZID=America/Los_Angeles:20250505T110000
DTSTAMP:20260423T192624
CREATED:20250408T175915Z
LAST-MODIFIED:20250408T175915Z
UID:1036-1746439200-1746442800@fwdbworks.org
SUMMARY:FWDB Orientation
DESCRIPTION:
URL:https://fwdbworks.org/wp/event/fwdb-orientation-33/
LOCATION:FETC\, 1207 E. Green St.\, Pasadena
ATTACH;FMTTYPE=image/jpeg:https://fwdbworks.org/wp/wp-content/uploads/2024/10/Orientation-Flyer.060524pdf-7-e1727911073419.jpg
ORGANIZER;CN="Foothill Workforce Development Board":MAILTO:fwdb@foothilletc.org
END:VEVENT
BEGIN:VEVENT
DTSTART;TZID=America/Los_Angeles:20250512T100000
DTEND;TZID=America/Los_Angeles:20250512T110000
DTSTAMP:20260423T192624
CREATED:20250408T175946Z
LAST-MODIFIED:20250408T175950Z
UID:1038-1747044000-1747047600@fwdbworks.org
SUMMARY:FWDB Orientation
DESCRIPTION:
URL:https://fwdbworks.org/wp/event/fwdb-orientation-34/
LOCATION:FETC\, 1207 E. Green St.\, Pasadena
ATTACH;FMTTYPE=image/jpeg:https://fwdbworks.org/wp/wp-content/uploads/2024/10/Orientation-Flyer.060524pdf-7-e1727911073419.jpg
ORGANIZER;CN="Foothill Workforce Development Board":MAILTO:fwdb@foothilletc.org
END:VEVENT
BEGIN:VEVENT
DTSTART;TZID=America/Los_Angeles:20250519T100000
DTEND;TZID=America/Los_Angeles:20250519T110000
DTSTAMP:20260423T192624
CREATED:20250408T180028Z
LAST-MODIFIED:20250408T180028Z
UID:1041-1747648800-1747652400@fwdbworks.org
SUMMARY:FWDB Orientation
DESCRIPTION:
URL:https://fwdbworks.org/wp/event/fwdb-orientation-35/
LOCATION:FETC\, 1207 E. Green St.\, Pasadena
ATTACH;FMTTYPE=image/jpeg:https://fwdbworks.org/wp/wp-content/uploads/2024/10/Orientation-Flyer.060524pdf-7-e1727911073419.jpg
ORGANIZER;CN="Foothill Workforce Development Board":MAILTO:fwdb@foothilletc.org
END:VEVENT
BEGIN:VEVENT
DTSTART;TZID=America/Los_Angeles:20250521T090000
DTEND;TZID=America/Los_Angeles:20250521T110000
DTSTAMP:20260423T192624
CREATED:20250520T235557Z
LAST-MODIFIED:20250520T235634Z
UID:1102-1747818000-1747825200@fwdbworks.org
SUMMARY:Joint FWDB and FETC Policy Board Meeting
DESCRIPTION:
URL:https://fwdbworks.org/wp/event/joint-fwdb-and-fetc-policy-board-meeting/
LOCATION:Brookside Gulf Club\, 1133 Rosemont Ave\, Pasadena\, 91103\, United States
ATTACH;FMTTYPE=application/pdf:https://fwdbworks.org/wp/wp-content/uploads/2025/05/1.-FETC-POLICY-BOARD-AND-FWDB-JOINT-MEETING-AGENDA-5.21.25.pdf
ORGANIZER;CN="Foothill Workforce Development Board":MAILTO:fwdb@foothilletc.org
END:VEVENT
BEGIN:VEVENT
DTSTART;TZID=America/Los_Angeles:20250521T130000
DTEND;TZID=America/Los_Angeles:20250521T160000
DTSTAMP:20260423T192624
CREATED:20250425T231958Z
LAST-MODIFIED:20250425T231958Z
UID:1098-1747832400-1747843200@fwdbworks.org
SUMMARY:City of Duarte Job Fair
DESCRIPTION:
URL:https://fwdbworks.org/wp/event/city-of-duarte-job-fair-2/
LOCATION:Duarte Community Center\, 1600 Huntington Dr\, Duarte\, CA\, 91010\, United States
ATTACH;FMTTYPE=image/jpeg:https://fwdbworks.org/wp/wp-content/uploads/2025/04/Duarte-Job-Fair-Flyer-052125.jpg
ORGANIZER;CN="Duarte Chamber of Commerce":MAILTO:info@duartechamber.com
END:VEVENT
BEGIN:VEVENT
DTSTART;TZID=America/Los_Angeles:20250526T100000
DTEND;TZID=America/Los_Angeles:20250526T110000
DTSTAMP:20260423T192624
CREATED:20250408T180056Z
LAST-MODIFIED:20250408T180059Z
UID:1043-1748253600-1748257200@fwdbworks.org
SUMMARY:FWDB Orientation
DESCRIPTION:
URL:https://fwdbworks.org/wp/event/fwdb-orientation-36/
LOCATION:FETC\, 1207 E. Green St.\, Pasadena
ATTACH;FMTTYPE=image/jpeg:https://fwdbworks.org/wp/wp-content/uploads/2024/10/Orientation-Flyer.060524pdf-7-e1727911073419.jpg
ORGANIZER;CN="Foothill Workforce Development Board":MAILTO:fwdb@foothilletc.org
END:VEVENT
END:VCALENDAR