BEGIN:VCALENDAR
VERSION:2.0
PRODID:-//Foothill Workforce Development Board (FWDB) - ECPv6.15.20//NONSGML v1.0//EN
CALSCALE:GREGORIAN
METHOD:PUBLISH
X-WR-CALNAME:Foothill Workforce Development Board (FWDB)
X-ORIGINAL-URL:https://fwdbworks.org/wp
X-WR-CALDESC:Events for Foothill Workforce Development Board (FWDB)
REFRESH-INTERVAL;VALUE=DURATION:PT1H
X-Robots-Tag:noindex
X-PUBLISHED-TTL:PT1H
BEGIN:VTIMEZONE
TZID:America/Los_Angeles
BEGIN:DAYLIGHT
TZOFFSETFROM:-0800
TZOFFSETTO:-0700
TZNAME:PDT
DTSTART:20240310T100000
END:DAYLIGHT
BEGIN:STANDARD
TZOFFSETFROM:-0700
TZOFFSETTO:-0800
TZNAME:PST
DTSTART:20241103T090000
END:STANDARD
BEGIN:DAYLIGHT
TZOFFSETFROM:-0800
TZOFFSETTO:-0700
TZNAME:PDT
DTSTART:20250309T100000
END:DAYLIGHT
BEGIN:STANDARD
TZOFFSETFROM:-0700
TZOFFSETTO:-0800
TZNAME:PST
DTSTART:20251102T090000
END:STANDARD
BEGIN:DAYLIGHT
TZOFFSETFROM:-0800
TZOFFSETTO:-0700
TZNAME:PDT
DTSTART:20260308T100000
END:DAYLIGHT
BEGIN:STANDARD
TZOFFSETFROM:-0700
TZOFFSETTO:-0800
TZNAME:PST
DTSTART:20261101T090000
END:STANDARD
END:VTIMEZONE
BEGIN:VEVENT
DTSTART;TZID=America/Los_Angeles:20250703T100000
DTEND;TZID=America/Los_Angeles:20250703T110000
DTSTAMP:20260423T170206
CREATED:20250616T214710Z
LAST-MODIFIED:20250616T214710Z
UID:1122-1751536800-1751540400@fwdbworks.org
SUMMARY:FWDB Orientation
DESCRIPTION:
URL:https://fwdbworks.org/wp/event/fwdb-orientation-42/
LOCATION:FETC\, 1207 E. Green St.\, Pasadena
ATTACH;FMTTYPE=image/jpeg:https://fwdbworks.org/wp/wp-content/uploads/2025/06/Orientation-FLyer-FWDB-e1750109838848.jpg
ORGANIZER;CN="Foothill Workforce Development Board":MAILTO:fwdb@foothilletc.org
END:VEVENT
BEGIN:VEVENT
DTSTART;TZID=America/Los_Angeles:20250707T100000
DTEND;TZID=America/Los_Angeles:20250707T110000
DTSTAMP:20260423T170206
CREATED:20250616T214148Z
LAST-MODIFIED:20250616T214148Z
UID:1116-1751882400-1751886000@fwdbworks.org
SUMMARY:FWDB Orientation
DESCRIPTION:
URL:https://fwdbworks.org/wp/event/fwdb-orientation-40/
LOCATION:FETC\, 1207 E. Green St.\, Pasadena
ATTACH;FMTTYPE=image/jpeg:https://fwdbworks.org/wp/wp-content/uploads/2025/06/Orientation-FLyer-FWDB-e1750109838848.jpg
ORGANIZER;CN="Foothill Workforce Development Board":MAILTO:fwdb@foothilletc.org
END:VEVENT
BEGIN:VEVENT
DTSTART;TZID=America/Los_Angeles:20250710T100000
DTEND;TZID=America/Los_Angeles:20250710T110000
DTSTAMP:20260423T170206
CREATED:20250616T214740Z
LAST-MODIFIED:20250616T214751Z
UID:1124-1752141600-1752145200@fwdbworks.org
SUMMARY:FWDB Orientation
DESCRIPTION:
URL:https://fwdbworks.org/wp/event/fwdb-orientation-43/
LOCATION:FETC\, 1207 E. Green St.\, Pasadena
ATTACH;FMTTYPE=image/jpeg:https://fwdbworks.org/wp/wp-content/uploads/2025/06/Orientation-FLyer-FWDB-e1750109838848.jpg
ORGANIZER;CN="Foothill Workforce Development Board":MAILTO:fwdb@foothilletc.org
END:VEVENT
BEGIN:VEVENT
DTSTART;TZID=America/Los_Angeles:20250714T100000
DTEND;TZID=America/Los_Angeles:20250714T110000
DTSTAMP:20260423T170206
CREATED:20250616T214235Z
LAST-MODIFIED:20250616T214235Z
UID:1118-1752487200-1752490800@fwdbworks.org
SUMMARY:FWDB Orientation
DESCRIPTION:
URL:https://fwdbworks.org/wp/event/fwdb-orientation-41/
LOCATION:FETC\, 1207 E. Green St.\, Pasadena
ORGANIZER;CN="Foothill Workforce Development Board":MAILTO:fwdb@foothilletc.org
END:VEVENT
BEGIN:VEVENT
DTSTART;TZID=America/Los_Angeles:20250717T100000
DTEND;TZID=America/Los_Angeles:20250717T110000
DTSTAMP:20260423T170206
CREATED:20250616T214832Z
LAST-MODIFIED:20250616T214835Z
UID:1126-1752746400-1752750000@fwdbworks.org
SUMMARY:FWDB Orientation
DESCRIPTION:
URL:https://fwdbworks.org/wp/event/fwdb-orientation-44/
LOCATION:FETC\, 1207 E. Green St.\, Pasadena
ATTACH;FMTTYPE=image/jpeg:https://fwdbworks.org/wp/wp-content/uploads/2025/06/Orientation-FLyer-FWDB-e1750109838848.jpg
ORGANIZER;CN="Foothill Workforce Development Board":MAILTO:fwdb@foothilletc.org
END:VEVENT
BEGIN:VEVENT
DTSTART;TZID=America/Los_Angeles:20250721T100000
DTEND;TZID=America/Los_Angeles:20250721T110000
DTSTAMP:20260423T170206
CREATED:20250616T215139Z
LAST-MODIFIED:20250616T215139Z
UID:1132-1753092000-1753095600@fwdbworks.org
SUMMARY:FWDB Orientation
DESCRIPTION:
URL:https://fwdbworks.org/wp/event/fwdb-orientation-47/
LOCATION:FETC\, 1207 E. Green St.\, Pasadena
ATTACH;FMTTYPE=image/jpeg:https://fwdbworks.org/wp/wp-content/uploads/2025/06/Orientation-FLyer-FWDB-e1750109838848.jpg
ORGANIZER;CN="Foothill Workforce Development Board":MAILTO:fwdb@foothilletc.org
END:VEVENT
BEGIN:VEVENT
DTSTART;TZID=America/Los_Angeles:20250721T123000
DTEND;TZID=America/Los_Angeles:20250721T133000
DTSTAMP:20260423T170206
CREATED:20250718T173515Z
LAST-MODIFIED:20250718T173546Z
UID:1154-1753101000-1753104600@fwdbworks.org
SUMMARY:FWDB Youth Committee Meeting
DESCRIPTION:
URL:https://fwdbworks.org/wp/event/fwdb-youth-committee-meeting/
LOCATION:FETC\, 1207 E. Green St.\, Pasadena
ATTACH;FMTTYPE=application/pdf:https://fwdbworks.org/wp/wp-content/uploads/2025/07/FWDB-Youth-Committee-Agenda-7.21.25-1.pdf
ORGANIZER;CN="Foothill Workforce Development Board":MAILTO:fwdb@foothilletc.org
END:VEVENT
BEGIN:VEVENT
DTSTART;TZID=America/Los_Angeles:20250724T100000
DTEND;TZID=America/Los_Angeles:20250724T110000
DTSTAMP:20260423T170206
CREATED:20250616T214919Z
LAST-MODIFIED:20250616T214921Z
UID:1128-1753351200-1753354800@fwdbworks.org
SUMMARY:FWDB Orientation
DESCRIPTION:
URL:https://fwdbworks.org/wp/event/fwdb-orientation-45/
LOCATION:FETC\, 1207 E. Green St.\, Pasadena
ATTACH;FMTTYPE=image/jpeg:https://fwdbworks.org/wp/wp-content/uploads/2025/06/Orientation-FLyer-FWDB-e1750109838848.jpg
ORGANIZER;CN="Foothill Workforce Development Board":MAILTO:fwdb@foothilletc.org
END:VEVENT
BEGIN:VEVENT
DTSTART;TZID=America/Los_Angeles:20250728T100000
DTEND;TZID=America/Los_Angeles:20250728T110000
DTSTAMP:20260423T170206
CREATED:20250616T215228Z
LAST-MODIFIED:20250616T215228Z
UID:1134-1753696800-1753700400@fwdbworks.org
SUMMARY:FWDB Orientation
DESCRIPTION:
URL:https://fwdbworks.org/wp/event/fwdb-orientation-48/
LOCATION:FETC\, 1207 E. Green St.\, Pasadena
ATTACH;FMTTYPE=image/jpeg:https://fwdbworks.org/wp/wp-content/uploads/2025/06/Orientation-FLyer-FWDB-e1750109838848.jpg
ORGANIZER;CN="Foothill Workforce Development Board":MAILTO:fwdb@foothilletc.org
END:VEVENT
BEGIN:VEVENT
DTSTART;TZID=America/Los_Angeles:20250731T100000
DTEND;TZID=America/Los_Angeles:20250731T110000
DTSTAMP:20260423T170206
CREATED:20250616T215022Z
LAST-MODIFIED:20250616T215025Z
UID:1130-1753956000-1753959600@fwdbworks.org
SUMMARY:FWDB Orientation
DESCRIPTION:
URL:https://fwdbworks.org/wp/event/fwdb-orientation-46/
LOCATION:FETC\, 1207 E. Green St.\, Pasadena
ATTACH;FMTTYPE=image/jpeg:https://fwdbworks.org/wp/wp-content/uploads/2025/06/Orientation-FLyer-FWDB-e1750109838848.jpg
ORGANIZER;CN="Foothill Workforce Development Board":MAILTO:fwdb@foothilletc.org
END:VEVENT
END:VCALENDAR