BEGIN:VCALENDAR
VERSION:2.0
PRODID:-//Foothill Workforce Development Board (FWDB) - ECPv6.15.20//NONSGML v1.0//EN
CALSCALE:GREGORIAN
METHOD:PUBLISH
X-ORIGINAL-URL:https://fwdbworks.org/wp
X-WR-CALDESC:Events for Foothill Workforce Development Board (FWDB)
REFRESH-INTERVAL;VALUE=DURATION:PT1H
X-Robots-Tag:noindex
X-PUBLISHED-TTL:PT1H
BEGIN:VTIMEZONE
TZID:America/Los_Angeles
BEGIN:DAYLIGHT
TZOFFSETFROM:-0800
TZOFFSETTO:-0700
TZNAME:PDT
DTSTART:20240310T100000
END:DAYLIGHT
BEGIN:STANDARD
TZOFFSETFROM:-0700
TZOFFSETTO:-0800
TZNAME:PST
DTSTART:20241103T090000
END:STANDARD
BEGIN:DAYLIGHT
TZOFFSETFROM:-0800
TZOFFSETTO:-0700
TZNAME:PDT
DTSTART:20250309T100000
END:DAYLIGHT
BEGIN:STANDARD
TZOFFSETFROM:-0700
TZOFFSETTO:-0800
TZNAME:PST
DTSTART:20251102T090000
END:STANDARD
BEGIN:DAYLIGHT
TZOFFSETFROM:-0800
TZOFFSETTO:-0700
TZNAME:PDT
DTSTART:20260308T100000
END:DAYLIGHT
BEGIN:STANDARD
TZOFFSETFROM:-0700
TZOFFSETTO:-0800
TZNAME:PST
DTSTART:20261101T090000
END:STANDARD
END:VTIMEZONE
BEGIN:VEVENT
DTSTART;TZID=America/Los_Angeles:20251002T100000
DTEND;TZID=America/Los_Angeles:20251002T110000
DTSTAMP:20260423T134020
CREATED:20250829T210107Z
LAST-MODIFIED:20250911T232231Z
UID:1211-1759399200-1759402800@fwdbworks.org
SUMMARY:FWDB Orientation
DESCRIPTION:
URL:https://fwdbworks.org/wp/event/fwdb-orientation-63/
LOCATION:FETC\, 1207 E. Green St.\, Pasadena
ATTACH;FMTTYPE=image/jpeg:https://fwdbworks.org/wp/wp-content/uploads/2025/06/Orientation-FLyer-FWDB-e1750109838848.jpg
ORGANIZER;CN="Foothill Workforce Development Board":MAILTO:fwdb@foothilletc.org
END:VEVENT
BEGIN:VEVENT
DTSTART;TZID=America/Los_Angeles:20251006T100000
DTEND;TZID=America/Los_Angeles:20251006T110000
DTSTAMP:20260423T134020
CREATED:20251008T162519Z
LAST-MODIFIED:20251008T162519Z
UID:1239-1759744800-1759748400@fwdbworks.org
SUMMARY:FWDB Orientation
DESCRIPTION:
URL:https://fwdbworks.org/wp/event/fwdb-orientation-64/
LOCATION:FETC\, 1207 E. Green St.\, Pasadena
ATTACH;FMTTYPE=image/jpeg:https://fwdbworks.org/wp/wp-content/uploads/2025/06/Orientation-FLyer-FWDB-e1750109838848.jpg
ORGANIZER;CN="Foothill Workforce Development Board":MAILTO:fwdb@foothilletc.org
END:VEVENT
BEGIN:VEVENT
DTSTART;TZID=America/Los_Angeles:20251009T100000
DTEND;TZID=America/Los_Angeles:20251009T110000
DTSTAMP:20260423T134020
CREATED:20251008T162555Z
LAST-MODIFIED:20251008T162555Z
UID:1241-1760004000-1760007600@fwdbworks.org
SUMMARY:FWDB Orientation
DESCRIPTION:
URL:https://fwdbworks.org/wp/event/fwdb-orientation-65/
LOCATION:FETC\, 1207 E. Green St.\, Pasadena
ATTACH;FMTTYPE=image/jpeg:https://fwdbworks.org/wp/wp-content/uploads/2025/06/Orientation-FLyer-FWDB-e1750109838848.jpg
ORGANIZER;CN="Foothill Workforce Development Board":MAILTO:fwdb@foothilletc.org
END:VEVENT
BEGIN:VEVENT
DTSTART;TZID=America/Los_Angeles:20251009T153000
DTEND;TZID=America/Los_Angeles:20251009T163000
DTSTAMP:20260423T134020
CREATED:20251008T183302Z
LAST-MODIFIED:20251009T172712Z
UID:1257-1760023800-1760027400@fwdbworks.org
SUMMARY:Experience Unlimited Orientation
DESCRIPTION:To register\, please call 626-304-7922\, Option #1 or email thomas.flynn@edd.ca.gov
URL:https://fwdbworks.org/wp/event/experience-unlimited-orientation/
LOCATION:Online
ATTACH;FMTTYPE=image/jpeg:https://fwdbworks.org/wp/wp-content/uploads/2025/10/EU-Flyer-1-e1759948921655.jpg
ORGANIZER;CN="EDD":MAILTO:thomas.flynn@edd.ca.gov
END:VEVENT
BEGIN:VEVENT
DTSTART;TZID=America/Los_Angeles:20251013T100000
DTEND;TZID=America/Los_Angeles:20251013T110000
DTSTAMP:20260423T134020
CREATED:20251008T162630Z
LAST-MODIFIED:20251008T162630Z
UID:1243-1760349600-1760353200@fwdbworks.org
SUMMARY:FWDB Orientation
DESCRIPTION:
URL:https://fwdbworks.org/wp/event/fwdb-orientation-66/
LOCATION:FETC\, 1207 E. Green St.\, Pasadena
ATTACH;FMTTYPE=image/jpeg:https://fwdbworks.org/wp/wp-content/uploads/2025/06/Orientation-FLyer-FWDB-e1750109838848.jpg
ORGANIZER;CN="Foothill Workforce Development Board":MAILTO:fwdb@foothilletc.org
END:VEVENT
BEGIN:VEVENT
DTSTART;TZID=America/Los_Angeles:20251015T100000
DTEND;TZID=America/Los_Angeles:20251015T130000
DTSTAMP:20260423T134020
CREATED:20251009T224235Z
LAST-MODIFIED:20251009T224343Z
UID:1280-1760522400-1760533200@fwdbworks.org
SUMMARY:Hiring Event
DESCRIPTION:For more information please call 626-796-5627\, or email eorona@sbwib.org
URL:https://fwdbworks.org/wp/event/hiring-event/
LOCATION:FETC\, 1207 E. Green St.\, Pasadena
ATTACH;FMTTYPE=application/pdf:https://fwdbworks.org/wp/wp-content/uploads/2025/10/Hiring-Event-at-FWDB101525.pdf
ORGANIZER;CN="Foothill Workforce Development Board":MAILTO:fwdb@foothilletc.org
END:VEVENT
BEGIN:VEVENT
DTSTART;TZID=America/Los_Angeles:20251016T100000
DTEND;TZID=America/Los_Angeles:20251016T110000
DTSTAMP:20260423T134020
CREATED:20251008T162808Z
LAST-MODIFIED:20251008T162808Z
UID:1245-1760608800-1760612400@fwdbworks.org
SUMMARY:FWDB Orientation
DESCRIPTION:
URL:https://fwdbworks.org/wp/event/fwdb-orientation-67/
LOCATION:FETC\, 1207 E. Green St.\, Pasadena
ATTACH;FMTTYPE=image/jpeg:https://fwdbworks.org/wp/wp-content/uploads/2025/06/Orientation-FLyer-FWDB-e1750109838848.jpg
ORGANIZER;CN="Foothill Workforce Development Board":MAILTO:fwdb@foothilletc.org
END:VEVENT
BEGIN:VEVENT
DTSTART;TZID=America/Los_Angeles:20251020T100000
DTEND;TZID=America/Los_Angeles:20251020T110000
DTSTAMP:20260423T134020
CREATED:20251008T162842Z
LAST-MODIFIED:20251008T162842Z
UID:1247-1760954400-1760958000@fwdbworks.org
SUMMARY:FWDB Orientation
DESCRIPTION:
URL:https://fwdbworks.org/wp/event/fwdb-orientation-68/
LOCATION:FETC\, 1207 E. Green St.\, Pasadena
ATTACH;FMTTYPE=image/jpeg:https://fwdbworks.org/wp/wp-content/uploads/2025/06/Orientation-FLyer-FWDB-e1750109838848.jpg
ORGANIZER;CN="Foothill Workforce Development Board":MAILTO:fwdb@foothilletc.org
END:VEVENT
BEGIN:VEVENT
DTSTART;TZID=America/Los_Angeles:20251020T123000
DTEND;TZID=America/Los_Angeles:20251020T133000
DTSTAMP:20260423T134020
CREATED:20251016T234557Z
LAST-MODIFIED:20251016T234955Z
UID:1286-1760963400-1760967000@fwdbworks.org
SUMMARY:FWDB Youth Committee Meeting
DESCRIPTION:
URL:https://fwdbworks.org/wp/event/fwdb-youth-committee-meeting-2/
LOCATION:FETC\, 1207 E. Green St.\, Pasadena
ATTACH;FMTTYPE=image/jpeg:https://fwdbworks.org/wp/wp-content/uploads/2025/10/FWDB-Youth-Committee-10.20.25-Agenda_Page_1-scaled-e1760658591690.jpg
ORGANIZER;CN="Foothill Workforce Development Board":MAILTO:fwdb@foothilletc.org
END:VEVENT
BEGIN:VEVENT
DTSTART;TZID=America/Los_Angeles:20251023T100000
DTEND;TZID=America/Los_Angeles:20251023T110000
DTSTAMP:20260423T134020
CREATED:20251008T162949Z
LAST-MODIFIED:20251008T162949Z
UID:1250-1761213600-1761217200@fwdbworks.org
SUMMARY:FWDB Orientation
DESCRIPTION:
URL:https://fwdbworks.org/wp/event/fwdb-orientation-69/
LOCATION:FETC\, 1207 E. Green St.\, Pasadena
ATTACH;FMTTYPE=image/jpeg:https://fwdbworks.org/wp/wp-content/uploads/2025/06/Orientation-FLyer-FWDB-e1750109838848.jpg
ORGANIZER;CN="Foothill Workforce Development Board":MAILTO:fwdb@foothilletc.org
END:VEVENT
BEGIN:VEVENT
DTSTART;TZID=America/Los_Angeles:20251023T153000
DTEND;TZID=America/Los_Angeles:20251023T163000
DTSTAMP:20260423T134020
CREATED:20251008T185830Z
LAST-MODIFIED:20251009T172528Z
UID:1271-1761233400-1761237000@fwdbworks.org
SUMMARY:Experience Unlimited Orientation
DESCRIPTION:To register\, please call 626-304-7922\, Option #1 or email thomas.flynn@edd.ca.gov
URL:https://fwdbworks.org/wp/event/experience-unlimited-orientation-2/
LOCATION:Online
ATTACH;FMTTYPE=image/jpeg:https://fwdbworks.org/wp/wp-content/uploads/2025/10/EU-Flyer-1-e1759948921655.jpg
ORGANIZER;CN="EDD":MAILTO:thomas.flynn@edd.ca.gov
END:VEVENT
BEGIN:VEVENT
DTSTART;TZID=America/Los_Angeles:20251027T100000
DTEND;TZID=America/Los_Angeles:20251027T110000
DTSTAMP:20260423T134020
CREATED:20251008T163019Z
LAST-MODIFIED:20251008T163019Z
UID:1252-1761559200-1761562800@fwdbworks.org
SUMMARY:FWDB Orientation
DESCRIPTION:
URL:https://fwdbworks.org/wp/event/fwdb-orientation-70/
LOCATION:FETC\, 1207 E. Green St.\, Pasadena
ATTACH;FMTTYPE=image/jpeg:https://fwdbworks.org/wp/wp-content/uploads/2025/06/Orientation-FLyer-FWDB-e1750109838848.jpg
ORGANIZER;CN="Foothill Workforce Development Board":MAILTO:fwdb@foothilletc.org
END:VEVENT
BEGIN:VEVENT
DTSTART;TZID=America/Los_Angeles:20251030T100000
DTEND;TZID=America/Los_Angeles:20251030T110000
DTSTAMP:20260423T134020
CREATED:20251008T163046Z
LAST-MODIFIED:20251008T163046Z
UID:1254-1761818400-1761822000@fwdbworks.org
SUMMARY:FWDB Orientation
DESCRIPTION:
URL:https://fwdbworks.org/wp/event/fwdb-orientation-71/
LOCATION:FETC\, 1207 E. Green St.\, Pasadena
ATTACH;FMTTYPE=image/jpeg:https://fwdbworks.org/wp/wp-content/uploads/2025/06/Orientation-FLyer-FWDB-e1750109838848.jpg
ORGANIZER;CN="Foothill Workforce Development Board":MAILTO:fwdb@foothilletc.org
END:VEVENT
END:VCALENDAR