BEGIN:VCALENDAR
VERSION:2.0
PRODID:-//Foothill Workforce Development Board (FWDB) - ECPv6.15.20//NONSGML v1.0//EN
CALSCALE:GREGORIAN
METHOD:PUBLISH
X-ORIGINAL-URL:https://fwdbworks.org/wp
X-WR-CALDESC:Events for Foothill Workforce Development Board (FWDB)
REFRESH-INTERVAL;VALUE=DURATION:PT1H
X-Robots-Tag:noindex
X-PUBLISHED-TTL:PT1H
BEGIN:VTIMEZONE
TZID:America/Los_Angeles
BEGIN:DAYLIGHT
TZOFFSETFROM:-0800
TZOFFSETTO:-0700
TZNAME:PDT
DTSTART:20250309T100000
END:DAYLIGHT
BEGIN:STANDARD
TZOFFSETFROM:-0700
TZOFFSETTO:-0800
TZNAME:PST
DTSTART:20251102T090000
END:STANDARD
BEGIN:DAYLIGHT
TZOFFSETFROM:-0800
TZOFFSETTO:-0700
TZNAME:PDT
DTSTART:20260308T100000
END:DAYLIGHT
BEGIN:STANDARD
TZOFFSETFROM:-0700
TZOFFSETTO:-0800
TZNAME:PST
DTSTART:20261101T090000
END:STANDARD
BEGIN:DAYLIGHT
TZOFFSETFROM:-0800
TZOFFSETTO:-0700
TZNAME:PDT
DTSTART:20270314T100000
END:DAYLIGHT
BEGIN:STANDARD
TZOFFSETFROM:-0700
TZOFFSETTO:-0800
TZNAME:PST
DTSTART:20271107T090000
END:STANDARD
END:VTIMEZONE
BEGIN:VEVENT
DTSTART;TZID=America/Los_Angeles:20260302T100000
DTEND;TZID=America/Los_Angeles:20260302T110000
DTSTAMP:20260423T072333
CREATED:20260224T005657Z
LAST-MODIFIED:20260224T005657Z
UID:1515-1772445600-1772449200@fwdbworks.org
SUMMARY:FWDB Orientation
DESCRIPTION:To register\, please email fwdb@foothilletc.org
URL:https://fwdbworks.org/wp/event/fwdb-orientation-98/
LOCATION:FETC\, 1207 E. Green St.\, Pasadena
ATTACH;FMTTYPE=image/jpeg:https://fwdbworks.org/wp/wp-content/uploads/2025/11/Copy-of-Dark-Blue-and-Red-Minimalist-We-Are-Hiring-Poster-1-e1763488562326.jpg
ORGANIZER;CN="Foothill Workforce Development Board":MAILTO:fwdb@foothilletc.org
END:VEVENT
BEGIN:VEVENT
DTSTART;TZID=America/Los_Angeles:20260303T090000
DTEND;TZID=America/Los_Angeles:20260303T120000
DTSTAMP:20260423T072333
CREATED:20260209T215018Z
LAST-MODIFIED:20260224T012229Z
UID:1477-1772528400-1772539200@fwdbworks.org
SUMMARY:US Bank Hiring Event
DESCRIPTION:If you have any questions or would like more information please email: aestevez@foothilletc.org
URL:https://fwdbworks.org/wp/event/us-bank-hiring-event/
LOCATION:FETC\, 1207 E. Green St.\, Pasadena
ATTACH;FMTTYPE=image/jpeg:https://fwdbworks.org/wp/wp-content/uploads/2026/02/US-Bank-Hiring-Event-3.3.26-scaled-e1771895858745.jpg
ORGANIZER;CN="Foothill Workforce Development Board":MAILTO:fwdb@foothilletc.org
END:VEVENT
BEGIN:VEVENT
DTSTART;TZID=America/Los_Angeles:20260305T100000
DTEND;TZID=America/Los_Angeles:20260305T110000
DTSTAMP:20260423T072333
CREATED:20260224T005826Z
LAST-MODIFIED:20260224T005826Z
UID:1517-1772704800-1772708400@fwdbworks.org
SUMMARY:FWDB Orientation
DESCRIPTION:To register\, please email fwdb@foothilletc.org
URL:https://fwdbworks.org/wp/event/fwdb-orientation-99/
LOCATION:FETC\, 1207 E. Green St.\, Pasadena
ATTACH;FMTTYPE=image/jpeg:https://fwdbworks.org/wp/wp-content/uploads/2025/11/Copy-of-Dark-Blue-and-Red-Minimalist-We-Are-Hiring-Poster-1-e1763488562326.jpg
ORGANIZER;CN="Foothill Workforce Development Board":MAILTO:fwdb@foothilletc.org
END:VEVENT
BEGIN:VEVENT
DTSTART;TZID=America/Los_Angeles:20260309T100000
DTEND;TZID=America/Los_Angeles:20260309T110000
DTSTAMP:20260423T072333
CREATED:20260224T005904Z
LAST-MODIFIED:20260224T005904Z
UID:1519-1773050400-1773054000@fwdbworks.org
SUMMARY:FWDB Orientation
DESCRIPTION:To register\, please email fwdb@foothilletc.org
URL:https://fwdbworks.org/wp/event/fwdb-orientation-100/
LOCATION:FETC\, 1207 E. Green St.\, Pasadena
ATTACH;FMTTYPE=image/jpeg:https://fwdbworks.org/wp/wp-content/uploads/2025/11/Copy-of-Dark-Blue-and-Red-Minimalist-We-Are-Hiring-Poster-1-e1763488562326.jpg
ORGANIZER;CN="Foothill Workforce Development Board":MAILTO:fwdb@foothilletc.org
END:VEVENT
BEGIN:VEVENT
DTSTART;TZID=America/Los_Angeles:20260312T100000
DTEND;TZID=America/Los_Angeles:20260312T110000
DTSTAMP:20260423T072333
CREATED:20260224T010141Z
LAST-MODIFIED:20260224T010141Z
UID:1527-1773309600-1773313200@fwdbworks.org
SUMMARY:FWDB Orientation
DESCRIPTION:To register\, please email fwdb@foothilletc.org
URL:https://fwdbworks.org/wp/event/fwdb-orientation-104/
LOCATION:FETC\, 1207 E. Green St.\, Pasadena
ATTACH;FMTTYPE=image/jpeg:https://fwdbworks.org/wp/wp-content/uploads/2025/11/Copy-of-Dark-Blue-and-Red-Minimalist-We-Are-Hiring-Poster-1-e1763488562326.jpg
ORGANIZER;CN="Foothill Workforce Development Board":MAILTO:fwdb@foothilletc.org
END:VEVENT
BEGIN:VEVENT
DTSTART;TZID=America/Los_Angeles:20260313T100000
DTEND;TZID=America/Los_Angeles:20260313T120000
DTSTAMP:20260423T072333
CREATED:20260223T190914Z
LAST-MODIFIED:20260223T190914Z
UID:1503-1773396000-1773403200@fwdbworks.org
SUMMARY:Tech Savvy Job Search Strategies Workshop
DESCRIPTION:Seating is limited to 15 spots.  Please email fwdb@foothilletc.org to reserve your spot.
URL:https://fwdbworks.org/wp/event/tech-savvy-job-search-strategies-workshop-3/
LOCATION:FETC\, 1207 E. Green St.\, Pasadena
ATTACH;FMTTYPE=image/jpeg:https://fwdbworks.org/wp/wp-content/uploads/2026/02/Job-Search-and-Interview-Skills-Workshop-March-13th-and-March-27th-scaled-e1771873743952.jpg
ORGANIZER;CN="Foothill Workforce Development Board":MAILTO:fwdb@foothilletc.org
END:VEVENT
BEGIN:VEVENT
DTSTART;TZID=America/Los_Angeles:20260313T130000
DTEND;TZID=America/Los_Angeles:20260313T150000
DTSTAMP:20260423T072333
CREATED:20260223T191230Z
LAST-MODIFIED:20260223T191230Z
UID:1512-1773406800-1773414000@fwdbworks.org
SUMMARY:Advanced Interview Skills Workshop
DESCRIPTION:Seating is limited to 15 spots.  Please email fwdb@foothilletc.org to reserve your spot.
URL:https://fwdbworks.org/wp/event/advanced-interview-skills-workshop-4/
LOCATION:FETC\, 1207 E. Green St.\, Pasadena
ATTACH;FMTTYPE=image/jpeg:https://fwdbworks.org/wp/wp-content/uploads/2026/02/Job-Search-and-Interview-Skills-Workshop-March-13th-and-March-27th-scaled-e1771873743952.jpg
ORGANIZER;CN="Foothill Workforce Development Board":MAILTO:fwdb@foothilletc.org
END:VEVENT
BEGIN:VEVENT
DTSTART;TZID=America/Los_Angeles:20260316T100000
DTEND;TZID=America/Los_Angeles:20260316T110000
DTSTAMP:20260423T072333
CREATED:20260224T005943Z
LAST-MODIFIED:20260224T005943Z
UID:1521-1773655200-1773658800@fwdbworks.org
SUMMARY:FWDB Orientation
DESCRIPTION:To register\, please email fwdb@foothilletc.org
URL:https://fwdbworks.org/wp/event/fwdb-orientation-101/
LOCATION:FETC\, 1207 E. Green St.\, Pasadena
ATTACH;FMTTYPE=image/jpeg:https://fwdbworks.org/wp/wp-content/uploads/2025/11/Copy-of-Dark-Blue-and-Red-Minimalist-We-Are-Hiring-Poster-1-e1763488562326.jpg
ORGANIZER;CN="Foothill Workforce Development Board":MAILTO:fwdb@foothilletc.org
END:VEVENT
BEGIN:VEVENT
DTSTART;TZID=America/Los_Angeles:20260319T100000
DTEND;TZID=America/Los_Angeles:20260319T110000
DTSTAMP:20260423T072333
CREATED:20260224T010213Z
LAST-MODIFIED:20260224T010213Z
UID:1529-1773914400-1773918000@fwdbworks.org
SUMMARY:FWDB Orientation
DESCRIPTION:To register\, please email fwdb@foothilletc.org
URL:https://fwdbworks.org/wp/event/fwdb-orientation-105/
LOCATION:FETC\, 1207 E. Green St.\, Pasadena
ATTACH;FMTTYPE=image/jpeg:https://fwdbworks.org/wp/wp-content/uploads/2025/11/Copy-of-Dark-Blue-and-Red-Minimalist-We-Are-Hiring-Poster-1-e1763488562326.jpg
ORGANIZER;CN="Foothill Workforce Development Board":MAILTO:fwdb@foothilletc.org
END:VEVENT
BEGIN:VEVENT
DTSTART;TZID=America/Los_Angeles:20260319T110000
DTEND;TZID=America/Los_Angeles:20260319T120000
DTSTAMP:20260423T072333
CREATED:20260302T164703Z
LAST-MODIFIED:20260302T164729Z
UID:1553-1773918000-1773921600@fwdbworks.org
SUMMARY:Introduction To Finding State Employment
DESCRIPTION:Click Here to Register!
URL:https://fwdbworks.org/wp/event/introduction-to-finding-state-employment-3/
LOCATION:FETC\, 1207 E. Green St.\, Pasadena
ATTACH;FMTTYPE=application/pdf:https://fwdbworks.org/wp/wp-content/uploads/2026/03/Intro-to-State-Employment.pdf
ORGANIZER;CN="Department of Rehabilitation":MAILTO:colleen.dragovich@dor.ca.gov
END:VEVENT
BEGIN:VEVENT
DTSTART;TZID=America/Los_Angeles:20260323T110000
DTEND;TZID=America/Los_Angeles:20260323T110000
DTSTAMP:20260423T072333
CREATED:20260224T010020Z
LAST-MODIFIED:20260224T010020Z
UID:1523-1774263600-1774263600@fwdbworks.org
SUMMARY:FWDB Orientation
DESCRIPTION:To register\, please email fwdb@foothilletc.org
URL:https://fwdbworks.org/wp/event/fwdb-orientation-102/
LOCATION:FETC\, 1207 E. Green St.\, Pasadena
ATTACH;FMTTYPE=image/jpeg:https://fwdbworks.org/wp/wp-content/uploads/2025/11/Copy-of-Dark-Blue-and-Red-Minimalist-We-Are-Hiring-Poster-1-e1763488562326.jpg
ORGANIZER;CN="Foothill Workforce Development Board":MAILTO:fwdb@foothilletc.org
END:VEVENT
BEGIN:VEVENT
DTSTART;TZID=America/Los_Angeles:20260326T100000
DTEND;TZID=America/Los_Angeles:20260326T110000
DTSTAMP:20260423T072333
CREATED:20260224T010327Z
LAST-MODIFIED:20260224T010406Z
UID:1533-1774519200-1774522800@fwdbworks.org
SUMMARY:FWDB Orientation
DESCRIPTION:To register\, please email fwdb@foothilletc.org
URL:https://fwdbworks.org/wp/event/fwdb-orientation-107/
LOCATION:FETC\, 1207 E. Green St.\, Pasadena
ATTACH;FMTTYPE=image/jpeg:https://fwdbworks.org/wp/wp-content/uploads/2025/11/Copy-of-Dark-Blue-and-Red-Minimalist-We-Are-Hiring-Poster-1-e1763488562326.jpg
ORGANIZER;CN="Foothill Workforce Development Board":MAILTO:fwdb@foothilletc.org
END:VEVENT
BEGIN:VEVENT
DTSTART;TZID=America/Los_Angeles:20260327T100000
DTEND;TZID=America/Los_Angeles:20260327T120000
DTSTAMP:20260423T072333
CREATED:20260223T191037Z
LAST-MODIFIED:20260223T191037Z
UID:1507-1774605600-1774612800@fwdbworks.org
SUMMARY:Tech Savvy Job Search Strategies Workshop
DESCRIPTION:Seating is limited to 15 spots.  Please email fwdb@foothilletc.org to reserve your spot.
URL:https://fwdbworks.org/wp/event/tech-savvy-job-search-strategies-workshop-4/
LOCATION:FETC\, 1207 E. Green St.\, Pasadena
ATTACH;FMTTYPE=image/jpeg:https://fwdbworks.org/wp/wp-content/uploads/2026/02/Job-Search-and-Interview-Skills-Workshop-March-13th-and-March-27th-scaled-e1771873743952.jpg
ORGANIZER;CN="Foothill Workforce Development Board":MAILTO:fwdb@foothilletc.org
END:VEVENT
BEGIN:VEVENT
DTSTART;TZID=America/Los_Angeles:20260327T130000
DTEND;TZID=America/Los_Angeles:20260327T150000
DTSTAMP:20260423T072333
CREATED:20260223T191138Z
LAST-MODIFIED:20260223T191138Z
UID:1510-1774616400-1774623600@fwdbworks.org
SUMMARY:Advanced Interview Skills Workshop
DESCRIPTION:Seating is limited to 15 spots.  Please email fwdb@foothilletc.org to reserve your spot.
URL:https://fwdbworks.org/wp/event/advanced-interview-skills-workshop-3/
LOCATION:FETC\, 1207 E. Green St.\, Pasadena
ATTACH;FMTTYPE=image/jpeg:https://fwdbworks.org/wp/wp-content/uploads/2026/02/Job-Search-and-Interview-Skills-Workshop-March-13th-and-March-27th-scaled-e1771873743952.jpg
ORGANIZER;CN="Foothill Workforce Development Board":MAILTO:fwdb@foothilletc.org
END:VEVENT
BEGIN:VEVENT
DTSTART;TZID=America/Los_Angeles:20260330T100000
DTEND;TZID=America/Los_Angeles:20260330T110000
DTSTAMP:20260423T072333
CREATED:20260224T010057Z
LAST-MODIFIED:20260224T010057Z
UID:1525-1774864800-1774868400@fwdbworks.org
SUMMARY:FWDB Orientation
DESCRIPTION:To register\, please email fwdb@foothilletc.org
URL:https://fwdbworks.org/wp/event/fwdb-orientation-103/
LOCATION:FETC\, 1207 E. Green St.\, Pasadena
ATTACH;FMTTYPE=image/jpeg:https://fwdbworks.org/wp/wp-content/uploads/2025/11/Copy-of-Dark-Blue-and-Red-Minimalist-We-Are-Hiring-Poster-1-e1763488562326.jpg
ORGANIZER;CN="Foothill Workforce Development Board":MAILTO:fwdb@foothilletc.org
END:VEVENT
BEGIN:VEVENT
DTSTART;TZID=America/Los_Angeles:20260331T100000
DTEND;TZID=America/Los_Angeles:20260331T130000
DTSTAMP:20260423T072333
CREATED:20260224T011407Z
LAST-MODIFIED:20260224T180327Z
UID:1536-1774951200-1774962000@fwdbworks.org
SUMMARY:Job Fair - Duarte Chamber of Commerce
DESCRIPTION:Register \n\nIf you have any questions or would like more information please email: aestevez@foothilletc.org
URL:https://fwdbworks.org/wp/event/job-fair-city-of-duarte/
LOCATION:Duarte Community Center\, 1600 Huntington Dr\, Duarte\, CA\, 91010\, United States
ATTACH;FMTTYPE=application/pdf:https://fwdbworks.org/wp/wp-content/uploads/2026/02/FWDB_Job-Fair_Duarte_3-31-26-1.pdf
ORGANIZER;CN="Duarte Chamber of Commerce":MAILTO:info@duartechamber.com
END:VEVENT
END:VCALENDAR